View In:
ArcGIS JavaScript
ArcGIS Online Map Viewer
ArcGIS Earth
Service Description: This is a single, seamless countywide image.
The aerial photos used to create the mosaic on this CD were taken on various dates in July and August 1939. They were scanned in 2001, and georeferenced in 2002. This data should NOT be used at a scale larger than 1 inch = 400 feet. Due to the lack of sufficient camera calibration information, errors will increase towards the margin of each underlying photo, although this effect has been minimized by cropping individual photos to make this mosaic. Since these photos were scanned from paper prints, local distortions (from the media stretching and/or shrinking) may be present as well as pen marks and fading.
In order for this information to fit on to the CD media it has been compressed with Lizardtech's MrSID software at a 1:5 target ratio.
The image is georeferenced to the Illinois State Plane, Eastern Zone, using the NAD83 horizontal datum.
Caution should be used in interpreting features in this photography with reference to current conditions. In particular, many roads and road intersections have been realigned in the more than 60 years since this photography was taken.
This historic aerial photography was captured in digital form as the result of a cooperative project between the Illinois State Geological Survey and the Geographic Information Systems (GIS) and Mapping Division of the Lake County Department of Information and Technology. It is part of a statewide program to preserve the oldest known extensive aerial photography for future generations.
The original photography was performed by the U.S. Department of Agriculture as part of a nation-wide program for use in agricultural assessment.
Since the original negatives became unstable and were destroyed by the National Archives in the 1980's, only paper prints remain. A set of paper prints representing the best available quality was assembled from the collections of several agencies. The scanning, georeferencing and mosaic processes are described in more detail on our website.
Name: 1939_aerials/Lake_IL_1939_webM
Description: This is a single, seamless countywide image.
The aerial photos used to create the mosaic on this CD were taken on various dates in July and August 1939. They were scanned in 2001, and georeferenced in 2002. This data should NOT be used at a scale larger than 1 inch = 400 feet. Due to the lack of sufficient camera calibration information, errors will increase towards the margin of each underlying photo, although this effect has been minimized by cropping individual photos to make this mosaic. Since these photos were scanned from paper prints, local distortions (from the media stretching and/or shrinking) may be present as well as pen marks and fading.
In order for this information to fit on to the CD media it has been compressed with Lizardtech's MrSID software at a 1:5 target ratio.
The image is georeferenced to the Illinois State Plane, Eastern Zone, using the NAD83 horizontal datum.
Caution should be used in interpreting features in this photography with reference to current conditions. In particular, many roads and road intersections have been realigned in the more than 60 years since this photography was taken.
This historic aerial photography was captured in digital form as the result of a cooperative project between the Illinois State Geological Survey and the Geographic Information Systems (GIS) and Mapping Division of the Lake County Department of Information and Technology. It is part of a statewide program to preserve the oldest known extensive aerial photography for future generations.
The original photography was performed by the U.S. Department of Agriculture as part of a nation-wide program for use in agricultural assessment.
Since the original negatives became unstable and were destroyed by the National Archives in the 1980's, only paper prints remain. A set of paper prints representing the best available quality was assembled from the collections of several agencies. The scanning, georeferencing and mosaic processes are described in more detail on our website.
Single Fused Map Cache: false
Extent:
XMin: -9818430.90243546
YMin: 5183730.17085766
XMax: -9767844.974063603
YMax: 5235678.557954433
Spatial Reference: 102100
(3857)
LatestVCSWkid(0)
Initial Extent:
XMin: -9818430.90243546
YMin: 5183730.17085766
XMax: -9767844.974063603
YMax: 5235678.557954433
Spatial Reference: 102100
(3857)
LatestVCSWkid(0)
Full Extent:
XMin: -9818430.90243546
YMin: 5183730.17085766
XMax: -9767844.974063603
YMax: 5235678.557954433
Spatial Reference: 102100
(3857)
LatestVCSWkid(0)
Pixel Size X: 0.6096012192024293
Pixel Size Y: 0.6096012192024342
Band Count: 1
Pixel Type: U8
RasterFunction Infos: {"rasterFunctionInfos": [{
"name": "None",
"description": "",
"help": ""
}]}
Mensuration Capabilities: Basic
Inspection Capabilities:
Has Histograms: true
Has Colormap: false
Has Multi Dimensions : false
Rendering Rule:
Min Scale: 1155581.108577
Max Scale: 2256.994353
Copyright Text: Illinois State Geological Survey and the Geographic Information Systems (GIS) and Mapping Division of the Lake County Department of Information and Technology
Service Data Type: esriImageServiceDataTypeGeneric
Min Values: 0
Max Values: 255
Mean Values: 164.6443968735427
Standard Deviation Values: 53.56852804763459
Object ID Field:
Fields:
None
Default Mosaic Method: Center
Allowed Mosaic Methods:
SortField:
SortValue: null
Mosaic Operator: First
Default Compression Quality: 75
Default Resampling Method: Bilinear
Max Record Count: null
Max Image Height: 4100
Max Image Width: 15000
Max Download Image Count: null
Max Mosaic Image Count: null
Allow Raster Function: true
Allow Copy: true
Allow Analysis: true
Allow Compute TiePoints: false
Supports Statistics: false
Supports Advanced Queries: false
Use StandardizedQueries: true
Raster Type Infos:
Name: Raster Dataset
Description: Supports all ArcGIS Raster Datasets
Help:
Has Raster Attribute Table: false
Edit Fields Info: null
Ownership Based AccessControl For Rasters: null
Child Resources:
Info
Histograms
Statistics
Key Properties
Legend
Raster Function Infos
Supported Operations:
Export Image
Identify
Measure
Compute Histograms
Compute Statistics Histograms
Get Samples
Compute Class Statistics
Query Boundary
Compute Pixel Location
Compute Angles
Validate
Project