{
 "currentVersion": 11.3,
 "serviceDescription": "This is a single, seamless countywide image.\n\nThe aerial photos used to create the mosaic on this CD were taken on various dates in July and August 1939. They were scanned in 2001, and georeferenced in 2002. This data should NOT be used at a scale larger than 1 inch = 400 feet. Due to the lack of sufficient camera calibration information, errors will increase towards the margin of each underlying photo, although this effect has been minimized by cropping individual photos to make this mosaic. Since these photos were scanned from paper prints, local distortions (from the media stretching and/or shrinking) may be present as well as pen marks and fading.\n\nIn order for this information to fit on to the CD media it has been compressed with Lizardtech's MrSID software at a 1:5 target ratio.\n\nThe image is georeferenced to the Illinois State Plane, Eastern Zone, using the NAD83 horizontal datum.\n\nCaution should be used in interpreting features in this photography with reference to current conditions. In particular, many roads and road intersections have been realigned in the more than 60 years since this photography was taken.\n\nThis historic aerial photography was captured in digital form as the result of a cooperative project between the Illinois State Geological Survey and the Geographic Information Systems (GIS) and Mapping Division of the Lake County Department of Information and Technology. It is part of a statewide program to preserve the oldest known extensive aerial photography for future generations.\n\nThe original photography was performed by the U.S. Department of Agriculture as part of a nation-wide program for use in agricultural assessment.\n\nSince the original negatives became unstable and were destroyed by the National Archives in the 1980's, only paper prints remain. A set of paper prints representing the best available quality was assembled from the collections of several agencies. The scanning, georeferencing and mosaic processes are described in more detail on our website.",
 "name": "1939_aerials/Lake_IL_1939_webM",
 "description": "This is a single, seamless countywide image.\n\nThe aerial photos used to create the mosaic on this CD were taken on various dates in July and August 1939. They were scanned in 2001, and georeferenced in 2002. This data should NOT be used at a scale larger than 1 inch = 400 feet. Due to the lack of sufficient camera calibration information, errors will increase towards the margin of each underlying photo, although this effect has been minimized by cropping individual photos to make this mosaic. Since these photos were scanned from paper prints, local distortions (from the media stretching and/or shrinking) may be present as well as pen marks and fading.\n\nIn order for this information to fit on to the CD media it has been compressed with Lizardtech's MrSID software at a 1:5 target ratio.\n\nThe image is georeferenced to the Illinois State Plane, Eastern Zone, using the NAD83 horizontal datum.\n\nCaution should be used in interpreting features in this photography with reference to current conditions. In particular, many roads and road intersections have been realigned in the more than 60 years since this photography was taken.\n\nThis historic aerial photography was captured in digital form as the result of a cooperative project between the Illinois State Geological Survey and the Geographic Information Systems (GIS) and Mapping Division of the Lake County Department of Information and Technology. It is part of a statewide program to preserve the oldest known extensive aerial photography for future generations.\n\nThe original photography was performed by the U.S. Department of Agriculture as part of a nation-wide program for use in agricultural assessment.\n\nSince the original negatives became unstable and were destroyed by the National Archives in the 1980's, only paper prints remain. A set of paper prints representing the best available quality was assembled from the collections of several agencies. The scanning, georeferencing and mosaic processes are described in more detail on our website.",
 "extent": {
  "xmin": -9818430.90243546,
  "ymin": 5183730.17085766,
  "xmax": -9767844.974063603,
  "ymax": 5235678.557954433,
  "spatialReference": {
   "wkid": 102100,
   "latestWkid": 3857
  }
 },
 "initialExtent": {
  "xmin": -9818430.90243546,
  "ymin": 5183730.17085766,
  "xmax": -9767844.974063603,
  "ymax": 5235678.557954433,
  "spatialReference": {
   "wkid": 102100,
   "latestWkid": 3857
  }
 },
 "fullExtent": {
  "xmin": -9818430.90243546,
  "ymin": 5183730.17085766,
  "xmax": -9767844.974063603,
  "ymax": 5235678.557954433,
  "spatialReference": {
   "wkid": 102100,
   "latestWkid": 3857
  }
 },
 "sortableFields": "",
 "bandCount": 1,
 "pixelType": "U8",
 "minValues": [
  0
 ],
 "maxValues": [
  255
 ],
 "meanValues": [
  164.6443968735427
 ],
 "stdvValues": [
  53.56852804763459
 ],
 "hasMultidimensions": false,
 "pixelSizeX": 0.6096012192024293,
 "pixelSizeY": 0.6096012192024342,
 "meanPixelSize": 0.6096012192024317,
 "datasetFormat": "FGDBR",
 "uncompressedSize": 7071477094,
 "blockWidth": 128,
 "blockHeight": 128,
 "compressionType": "LZ77",
 "bandNames": [
  "Band_1"
 ],
 "allowCopy": true,
 "allowAnalysis": true,
 "itemAccess": false,
 "inspectionCapabilities": "",
 "minPixelSize": 0,
 "maxPixelSize": 0,
 "copyrightText": "Illinois State Geological Survey and the Geographic Information Systems (GIS) and Mapping Division of the Lake County Department of Information and Technology",
 "serviceDataType": "esriImageServiceDataTypeGeneric",
 "serviceSourceType": "esriImageServiceSourceTypeDataset",
 "objectIdField": "",
 "fields": [],
 "capabilities": "Image,Metadata,Mensuration",
 "defaultMosaicMethod": "Center",
 "allowedMosaicMethods": "",
 "sortField": "",
 "sortValue": null,
 "sortAscending": true,
 "mosaicOperator": "First",
 "defaultCompressionQuality": 75,
 "defaultResamplingMethod": "Bilinear",
 "maxImageHeight": 4100,
 "maxImageWidth": 15000,
 "allowRasterFunction": true,
 "rasterFunctionInfos": [
  {
   "name": "None",
   "description": "",
   "help": ""
  }
 ],
 "rasterTypeInfos": [
  {
   "name": "Raster Dataset",
   "description": "Supports all ArcGIS Raster Datasets",
   "help": ""
  }
 ],
 "mensurationCapabilities": "Basic",
 "hasHistograms": true,
 "hasColormap": false,
 "hasRasterAttributeTable": false,
 "minScale": 1155581.108577,
 "maxScale": 2256.994353,
 "exportTilesAllowed": false,
 "supportsStatistics": false,
 "supportsAdvancedQueries": false,
 "editFieldsInfo": null,
 "ownershipBasedAccessControlForRasters": null,
 "allowComputeTiePoints": false,
 "useStandardizedQueries": true,
 "advancedQueryCapabilities": {
  "useStandardizedQueries": true,
  "supportsStatistics": false,
  "supportsOrderBy": false,
  "supportsDistinct": false,
  "supportsPagination": false
 },
 "spatialReference": {
  "wkid": 102100,
  "latestWkid": 3857
 }
}
