View In:
ArcGIS JavaScript
ArcGIS Online Map Viewer
ArcGIS Earth
Service Description: Chicago_Wilderness/landcover_chicagoregional_mosaic_tif
Name: Chicago_Wilderness/landcover_chicagoregional_mosaic_tif
Description:
Single Fused Map Cache: false
Extent:
XMin: 847500.0
YMin: 1650351.0
XMax: 1217500.0
YMax: 2165000.0
Spatial Reference: 0
(0)
LatestVCSWkid(0)
Initial Extent:
XMin: 847500.0
YMin: 1650351.0
XMax: 1217500.0
YMax: 2165000.0
Spatial Reference: 0
(0)
LatestVCSWkid(0)
Full Extent:
XMin: 847500.0
YMin: 1650351.0
XMax: 1217500.0
YMax: 2165000.0
Spatial Reference: 0
(0)
LatestVCSWkid(0)
Pixel Size X: 1.0
Pixel Size Y: 1.0
Band Count: 1
Pixel Type: U4
RasterFunction Infos: {"rasterFunctionInfos": [{
"name": "None",
"description": "",
"help": ""
}]}
Mensuration Capabilities: Basic
Inspection Capabilities:
Has Histograms: true
Has Colormap: true
Has Multi Dimensions : false
Rendering Rule:
Min Scale: 0
Max Scale: 0
Copyright Text:
Service Data Type: esriImageServiceDataTypeThematic
Min Values: 1
Max Values: 7
Mean Values: 2.6300013086494
Standard Deviation Values: 1.7993107776777
Object ID Field:
Fields:
None
Default Mosaic Method: Center
Allowed Mosaic Methods:
SortField:
SortValue: null
Mosaic Operator: First
Default Compression Quality: 75
Default Resampling Method: Bilinear
Max Record Count: null
Max Image Height: 4100
Max Image Width: 15000
Max Download Image Count: null
Max Mosaic Image Count: null
Allow Raster Function: true
Allow Copy: true
Allow Analysis: true
Allow Compute TiePoints: false
Supports Statistics: false
Supports Advanced Queries: false
Use StandardizedQueries: true
Raster Type Infos:
Name: Raster Dataset
Description: Supports all ArcGIS Raster Datasets
Help:
Has Raster Attribute Table: true
Edit Fields Info: null
Ownership Based AccessControl For Rasters: null
Child Resources:
Info
Raster Attribute Table
Histograms
Statistics
Key Properties
Color Map
Legend
Raster Function Infos
Supported Operations:
Export Image
Identify
Measure
Compute Histograms
Compute Statistics Histograms
Get Samples
Compute Class Statistics
Query Boundary
Compute Pixel Location
Compute Angles
Validate
Project