View In:
ArcGIS JavaScript
ArcGIS Online Map Viewer
ArcGIS Earth
ArcGIS Pro
Service Description: Green infrastructure at the regional scale is described by the Chicago Wilderness Green Infrastructure Vision (GIV). This map and policy describing the most important areas to protect in the region was originally adopted by Chicago Wilderness in 2004. Working with The Conservation Fund, Chicago Wilderness refined and updated the mapping in 2011 -2012.
Map Name: Data Layers
Legend
All Layers and Tables
Layers:
Description:
Service Item Id:
Copyright Text: Chicago Wilderness and The Field Museum
Spatial Reference:
102100
(3857)
LatestVCSWkid(0)
Single Fused Map Cache: true
Tile Info:
- Height: 256
- Width: 256
- DPI: 96
-
Levels of Detail: 20
-
Level ID: 0
[ Start Tile, End Tile ]
- Resolution: 156543.03392800014
- Scale: 5.91657527591555E8
-
Level ID: 1
[ Start Tile, End Tile ]
- Resolution: 78271.51696399994
- Scale: 2.95828763795777E8
-
Level ID: 2
[ Start Tile, End Tile ]
- Resolution: 39135.75848200009
- Scale: 1.47914381897889E8
-
Level ID: 3
[ Start Tile, End Tile ]
- Resolution: 19567.87924099992
- Scale: 7.3957190948944E7
-
Level ID: 4
[ Start Tile, End Tile ]
- Resolution: 9783.93962049996
- Scale: 3.6978595474472E7
-
Level ID: 5
[ Start Tile, End Tile ]
- Resolution: 4891.96981024998
- Scale: 1.8489297737236E7
- Format: PNG
- Compression Quality: 0.0
- Origin: X: -2.0037508342787E7
Y: 2.0037508342787E7
- Spatial Reference: 102100
(3857)
LatestVCSWkid(0)
Storage Info:
- Storage Format: esriMapCacheStorageModeCompactV2
- Packet Size: 128
Initial Extent:
XMin: -9974708.785831053
YMin: 5100642.76638851
XMax: -9505306.878935874
YMax: 5351496.795954539
Spatial Reference: 102100
(0)
LatestVCSWkid(0)
Full Extent:
XMin: -9946502.121604549
YMin: 4955849.20708986
XMax: -9533538.415640252
YMax: 5351496.797025858
Spatial Reference: 102100
(0)
LatestVCSWkid(0)
Units: esriMeters
Supported Image Format Types: PNG32,PNG24,PNG,JPG,DIB,TIFF,EMF,PS,PDF,GIF,SVG,SVGZ,BMP
Document Info:
Title: Chicago Wilderness GIV 2.2 Interactive Map
Author: M. Johnston (The Field Museum)
Comments: Green infrastructure at the regional scale is described by the Chicago Wilderness Green Infrastructure Vision (GIV). This map and policy describing the most important areas to protect in the region was originally adopted by Chicago Wilderness in 2004. Working with The Conservation Fund, Chicago Wilderness refined and updated the mapping in 2011 -2012.
Subject: Regional Green Infrastructure Data
Category:
Keywords: Chicago Wilderness,Green Infrastructure Vision,GIV
AntialiasingMode: None
TextAntialiasingMode: Force
Supports Dynamic Layers: false
MaxRecordCount: 1000
MaxImageHeight: 4096
MaxImageWidth: 4096
Supported Query Formats: JSON, geoJSON, PBF
Supports Query Data Elements: true
Min Scale: 4622324.434309
Max Scale: 4513.988705
Supports Datum Transformation: true
Child Resources:
Info
Supported Operations:
Export Map
Identify
QueryLegends
QueryDomains
Find
Return Updates