View In:
ArcGIS JavaScript
ArcGIS Online Map Viewer
ArcGIS Earth
ArcGIS Pro
Service Description: Chicago Wilderness Climate Change Workshop Asset Mapping. This map contains layers designed to help support a joint mapping effort at a workshop on Nov 6th. User groups were asked to map questions related to one of four topics recorded in the attribute tables.
Map Name: Layers
Legend
All Layers and Tables
Layers:
Description:
Service Item Id:
Copyright Text: Keller Actions Ctr at The Field Museum
Spatial Reference:
102100
(3857)
LatestVCSWkid(0)
Single Fused Map Cache: true
Tile Info:
- Height: 256
- Width: 256
- DPI: 96
-
Levels of Detail: 20
-
Level ID: 0
[ Start Tile, End Tile ]
- Resolution: 156543.03392800014
- Scale: 5.91657527591555E8
-
Level ID: 1
[ Start Tile, End Tile ]
- Resolution: 78271.51696399994
- Scale: 2.95828763795777E8
-
Level ID: 2
[ Start Tile, End Tile ]
- Resolution: 39135.75848200009
- Scale: 1.47914381897889E8
-
Level ID: 3
[ Start Tile, End Tile ]
- Resolution: 19567.87924099992
- Scale: 7.3957190948944E7
-
Level ID: 4
[ Start Tile, End Tile ]
- Resolution: 9783.93962049996
- Scale: 3.6978595474472E7
-
Level ID: 5
[ Start Tile, End Tile ]
- Resolution: 4891.96981024998
- Scale: 1.8489297737236E7
- Format: PNG
- Compression Quality: 0.0
- Origin: X: -2.0037508342787E7
Y: 2.0037508342787E7
- Spatial Reference: 102100
(3857)
LatestVCSWkid(0)
Storage Info:
- Storage Format: esriMapCacheStorageModeCompactV2
- Packet Size: 128
Initial Extent:
XMin: -1.014725380996011E7
YMin: 5053818.949405795
XMax: -9363820.993094476
YMax: 5380050.8518696
Spatial Reference: 102100
(0)
LatestVCSWkid(0)
Full Extent:
XMin: -9984031.9618
YMin: 4923964.2217999995
XMax: -9534647.7589
YMax: 5342191.938500002
Spatial Reference: 102100
(0)
LatestVCSWkid(0)
Units: esriMeters
Supported Image Format Types: PNG32,PNG24,PNG,JPG,DIB,TIFF,EMF,PS,PDF,GIF,SVG,SVGZ,BMP
Document Info:
Title:
Author:
Comments: Chicago Wilderness Climate Change Workshop Asset Mapping. This map contains layers designed to help support a joint mapping effort at a workshop on Nov 6th. User groups were asked to map questions related to one of four topics recorded in the attribute tables.
Subject: Chicago Wilderness Climate Change Workshop Asset Mapping -- Support Layers (only)
Category:
Keywords: Chicago Wilderness,Climate Change,workshop,asset mapping
AntialiasingMode: None
TextAntialiasingMode: Force
Supports Dynamic Layers: false
MaxRecordCount: 2000
MaxImageHeight: 4096
MaxImageWidth: 4096
Supported Query Formats: JSON, geoJSON, PBF
Supports Query Data Elements: true
Min Scale: 288895.277144
Max Scale: 4513.988705
Supports Datum Transformation: true
Child Resources:
Info
Supported Operations:
Export Map
QueryLegends
Return Updates