View In:
ArcGIS JavaScript
ArcGIS Online Map Viewer
ArcGIS Earth
Service Description: CW_raster_data/landcover_2010_10_county_tif
Name: CW_raster_data/landcover_2010_10_county_tif
Description:
Single Fused Map Cache: false
Extent:
XMin: 331604.29468872957
YMin: 4528280.999420453
XMax: 572154.2946887296
YMax: 4730903.999420453
Spatial Reference: 26916
(26916)
LatestVCSWkid(0)
Initial Extent:
XMin: 331604.29468872957
YMin: 4528280.999420453
XMax: 572154.2946887296
YMax: 4730903.999420453
Spatial Reference: 26916
(26916)
LatestVCSWkid(0)
Full Extent:
XMin: 331604.29468872957
YMin: 4528280.999420453
XMax: 572154.2946887296
YMax: 4730903.999420453
Spatial Reference: 26916
(26916)
LatestVCSWkid(0)
Pixel Size X: 1.0
Pixel Size Y: 1.0
Band Count: 1
Pixel Type: U4
RasterFunction Infos: {"rasterFunctionInfos": [{
"name": "None",
"description": "",
"help": ""
}]}
Mensuration Capabilities: Basic
Inspection Capabilities:
Has Histograms: true
Has Colormap: false
Has Multi Dimensions : false
Rendering Rule:
Min Scale: 0
Max Scale: 0
Copyright Text:
Service Data Type: esriImageServiceDataTypeThematic
Min Values: 1
Max Values: 7
Mean Values: 2.4703158427893
Standard Deviation Values: 1.6297191691406
Object ID Field:
Fields:
None
Default Mosaic Method: Center
Allowed Mosaic Methods:
SortField:
SortValue: null
Mosaic Operator: First
Default Compression Quality: 75
Default Resampling Method: Bilinear
Max Record Count: null
Max Image Height: 4100
Max Image Width: 15000
Max Download Image Count: null
Max Mosaic Image Count: null
Allow Raster Function: true
Allow Copy: true
Allow Analysis: true
Allow Compute TiePoints: false
Supports Statistics: false
Supports Advanced Queries: false
Use StandardizedQueries: true
Raster Type Infos:
Name: Raster Dataset
Description: Supports all ArcGIS Raster Datasets
Help:
Has Raster Attribute Table: true
Edit Fields Info: null
Ownership Based AccessControl For Rasters: null
Child Resources:
Info
Raster Attribute Table
Histograms
Statistics
Key Properties
Legend
Raster Function Infos
Supported Operations:
Export Image
Identify
Measure
Compute Histograms
Compute Statistics Histograms
Get Samples
Compute Class Statistics
Query Boundary
Compute Pixel Location
Compute Angles
Validate
Project