View In:
ArcGIS JavaScript
ArcGIS Online Map Viewer
ArcGIS Earth
Service Description: Statewide aerial photographs were first acquired for Illinois from 1937 through 1947. This collection history gives details about the approximately 33,500 photographic paper prints that were scanned. The original silver nitrate film negatives were purposefully destroyed by the National Archives in the early 1980s due to deterioration and instability. An attempt to copy the negatives prior to their desctruction resulted in a very poor quality replacement. Due to this fact the original photographic prints are now the best substitute for the negatives. Use of the paper prints over time has resulted in their becoming faded, worn, defaced, or lost. Access to these print collections is becoming increasingly restricted. Digitization, or print scanning, has been completed for statewide coverage of Illinois in an effort to create a lasting archive of this irreplaceable collection.
Source:
http://www.isgs.illinois.edu/nsdihome/webdocs/ilhap/
Name: 1939_aerials/DuPage_IL_1939_webM
Description: Statewide aerial photographs were first acquired for Illinois from 1937 through 1947. This collection history gives details about the approximately 33,500 photographic paper prints that were scanned. The original silver nitrate film negatives were purposefully destroyed by the National Archives in the early 1980s due to deterioration and instability. An attempt to copy the negatives prior to their desctruction resulted in a very poor quality replacement. Due to this fact the original photographic prints are now the best substitute for the negatives. Use of the paper prints over time has resulted in their becoming faded, worn, defaced, or lost. Access to these print collections is becoming increasingly restricted. Digitization, or print scanning, has been completed for statewide coverage of Illinois in an effort to create a lasting archive of this irreplaceable collection.
Source:
http://www.isgs.illinois.edu/nsdihome/webdocs/ilhap/
Single Fused Map Cache: false
Extent:
XMin: -9832094.808915121
YMin: 5109447.502697742
XMax: -9781027.30848872
YMax: 5162460.015364525
Spatial Reference: 102100
(3857)
LatestVCSWkid(0)
Initial Extent:
XMin: -9832094.808915121
YMin: 5109447.502697742
XMax: -9781027.30848872
YMax: 5162460.015364525
Spatial Reference: 102100
(3857)
LatestVCSWkid(0)
Full Extent:
XMin: -9832094.808915121
YMin: 5109447.502697742
XMax: -9781027.30848872
YMax: 5162460.015364525
Spatial Reference: 102100
(3857)
LatestVCSWkid(0)
Pixel Size X: 0.7409570439547063
Pixel Size Y: 0.7409570439547046
Band Count: 1
Pixel Type: U8
RasterFunction Infos: {"rasterFunctionInfos": [{
"name": "None",
"description": "",
"help": ""
}]}
Mensuration Capabilities: Basic
Inspection Capabilities:
Has Histograms: true
Has Colormap: false
Has Multi Dimensions : false
Rendering Rule:
Min Scale: 1155581.108577
Max Scale: 2256.994353
Copyright Text: Illinois State Geological Survey, The Field Museum, Morton Arboretum, Lake County Forest Preserve, Chicago Wilderness
Service Data Type: esriImageServiceDataTypeGeneric
Min Values: 0
Max Values: 254
Mean Values: 156.72666705511537
Standard Deviation Values: 41.36614441934953
Object ID Field:
Fields:
None
Default Mosaic Method: Center
Allowed Mosaic Methods:
SortField:
SortValue: null
Mosaic Operator: First
Default Compression Quality: 75
Default Resampling Method: Bilinear
Max Record Count: null
Max Image Height: 4100
Max Image Width: 15000
Max Download Image Count: null
Max Mosaic Image Count: null
Allow Raster Function: true
Allow Copy: true
Allow Analysis: true
Allow Compute TiePoints: false
Supports Statistics: false
Supports Advanced Queries: false
Use StandardizedQueries: true
Raster Type Infos:
Name: Raster Dataset
Description: Supports all ArcGIS Raster Datasets
Help:
Has Raster Attribute Table: true
Edit Fields Info: null
Ownership Based AccessControl For Rasters: null
Child Resources:
Info
Raster Attribute Table
Histograms
Statistics
Key Properties
Legend
Raster Function Infos
Supported Operations:
Export Image
Identify
Measure
Compute Histograms
Compute Statistics Histograms
Get Samples
Compute Class Statistics
Query Boundary
Compute Pixel Location
Compute Angles
Validate
Project