{
 "currentVersion": 11.3,
 "serviceDescription": "Statewide aerial photographs were first acquired for Illinois from 1937 through 1947. This collection history gives details about the approximately 33,500 photographic paper prints that were scanned. The original silver nitrate film negatives were purposefully destroyed by the National Archives in the early 1980s due to deterioration and instability. An attempt to copy the negatives prior to their desctruction resulted in a very poor quality replacement. Due to this fact the original photographic prints are now the best substitute for the negatives. Use of the paper prints over time has resulted in their becoming faded, worn, defaced, or lost. Access to these print collections is becoming increasingly restricted. Digitization, or print scanning, has been completed for statewide coverage of Illinois in an effort to create a lasting archive of this irreplaceable collection.\n\nSource:\nhttp://isgs.illinois.edu/nsdihome/webdocs/ilhap/",
 "name": "1939_aerials/McHenry_IL_1939_webM",
 "description": "Statewide aerial photographs were first acquired for Illinois from 1937 through 1947. This collection history gives details about the approximately 33,500 photographic paper prints that were scanned. The original silver nitrate film negatives were purposefully destroyed by the National Archives in the early 1980s due to deterioration and instability. An attempt to copy the negatives prior to their desctruction resulted in a very poor quality replacement. Due to this fact the original photographic prints are now the best substitute for the negatives. Use of the paper prints over time has resulted in their becoming faded, worn, defaced, or lost. Access to these print collections is becoming increasingly restricted. Digitization, or print scanning, has been completed for statewide coverage of Illinois in an effort to create a lasting archive of this irreplaceable collection.\n\nSource:\nhttp://isgs.illinois.edu/nsdihome/webdocs/ilhap/",
 "extent": {
  "xmin": -9880030.237603929,
  "ymin": 5178216.842203467,
  "xmax": -9811587.237603929,
  "ymax": 5238057.842203467,
  "spatialReference": {
   "wkid": 102100,
   "latestWkid": 3857
  }
 },
 "initialExtent": {
  "xmin": -9880030.237603929,
  "ymin": 5178216.842203467,
  "xmax": -9811587.237603929,
  "ymax": 5238057.842203467,
  "spatialReference": {
   "wkid": 102100,
   "latestWkid": 3857
  }
 },
 "fullExtent": {
  "xmin": -9880030.237603929,
  "ymin": 5178216.842203467,
  "xmax": -9811587.237603929,
  "ymax": 5238057.842203467,
  "spatialReference": {
   "wkid": 102100,
   "latestWkid": 3857
  }
 },
 "sortableFields": "",
 "bandCount": 1,
 "pixelType": "U8",
 "minValues": [
  0
 ],
 "maxValues": [
  255
 ],
 "meanValues": [
  159.67491412569913
 ],
 "stdvValues": [
  40.38886492210317
 ],
 "hasMultidimensions": false,
 "pixelSizeX": 1,
 "pixelSizeY": 1,
 "meanPixelSize": 1,
 "datasetFormat": "FGDBR",
 "uncompressedSize": 4095697563,
 "blockWidth": 128,
 "blockHeight": 128,
 "compressionType": "LZ77",
 "bandNames": [
  "Band_1"
 ],
 "allowCopy": true,
 "allowAnalysis": true,
 "itemAccess": false,
 "inspectionCapabilities": "",
 "minPixelSize": 0,
 "maxPixelSize": 0,
 "copyrightText": "Illinois State Geological Survey, The Field Museum, Morton Arboretum, Lake County Forest Preserves, Chicago Wilderness",
 "serviceDataType": "esriImageServiceDataTypeGeneric",
 "serviceSourceType": "esriImageServiceSourceTypeDataset",
 "objectIdField": "",
 "fields": [],
 "capabilities": "Image,Metadata,Mensuration",
 "defaultMosaicMethod": "Center",
 "allowedMosaicMethods": "",
 "sortField": "",
 "sortValue": null,
 "sortAscending": true,
 "mosaicOperator": "First",
 "defaultCompressionQuality": 75,
 "defaultResamplingMethod": "Bilinear",
 "maxImageHeight": 4100,
 "maxImageWidth": 15000,
 "allowRasterFunction": true,
 "rasterFunctionInfos": [
  {
   "name": "None",
   "description": "",
   "help": ""
  }
 ],
 "rasterTypeInfos": [
  {
   "name": "Raster Dataset",
   "description": "Supports all ArcGIS Raster Datasets",
   "help": ""
  }
 ],
 "mensurationCapabilities": "Basic",
 "hasHistograms": true,
 "hasColormap": false,
 "hasRasterAttributeTable": true,
 "minScale": 1155581.108577,
 "maxScale": 2256.994353,
 "exportTilesAllowed": false,
 "supportsStatistics": false,
 "supportsAdvancedQueries": false,
 "editFieldsInfo": null,
 "ownershipBasedAccessControlForRasters": null,
 "allowComputeTiePoints": false,
 "useStandardizedQueries": true,
 "advancedQueryCapabilities": {
  "useStandardizedQueries": true,
  "supportsStatistics": false,
  "supportsOrderBy": false,
  "supportsDistinct": false,
  "supportsPagination": false
 },
 "spatialReference": {
  "wkid": 102100,
  "latestWkid": 3857
 }
}
