<?xml version="1.0" encoding="UTF-8" standalone="no"?>
<metadata xml:lang="en">
<idinfo>
<citation>
<citeinfo>
<origin>Lake County, Illinois: Department of Information and Technology, GIS Division</origin>
<pubdate>2002</pubdate>
<title>1939 Orthophotography of Lake County, IL</title>
<ftname Sync="TRUE">aerial1939.sid</ftname>
<geoform Sync="TRUE">remote-sensing image</geoform>
<onlink>http://www.lakecountyil.gov/mapping</onlink>
</citeinfo>
</citation>
<descript>
<abstract>This is a single, seamless countywide image.
The aerial photos used to create the mosaic on this CD were taken on various dates in July and August 1939. They were scanned in 2001, and georeferenced in 2002. This data should NOT be used at a scale larger than 1 inch = 400 feet. Due to the lack of sufficient camera calibration information, errors will increase towards the margin of each underlying photo, although this effect has been minimized by cropping individual photos to make this mosaic. Since these photos were scanned from paper prints, local distortions (from the media stretching and/or shrinking) may be present as well as pen marks and fading.
In order for this information to fit on to the CD media it has been compressed with Lizardtech's MrSID software at a 1:5 target ratio.
The image is georeferenced to the Illinois State Plane, Eastern Zone, using the NAD83 horizontal datum.
Caution should be used in interpreting features in this photography with reference to current conditions. In particular, many roads and road intersections have been realigned in the more than 60 years since this photography was taken.
This historic aerial photography was captured in digital form as the result of a cooperative project between the Illinois State Geological Survey and the Geographic Information Systems (GIS) and Mapping Division of the Lake County Department of Information and Technology. It is part of a statewide program to preserve the oldest known extensive aerial photography for future generations.
The original photography was performed by the U.S. Department of Agriculture as part of a nation-wide program for use in agricultural assessment.
Since the original negatives became unstable and were destroyed by the National Archives in the 1980's, only paper prints remain. A set of paper prints representing the best available quality was assembled from the collections of several agencies. The scanning, georeferencing and mosaic processes are described in more detail on our website.</abstract>
<purpose>This dataset was created for historical analysis at scales of 1 inch = 400 feet or smaller.</purpose>
<langdata Sync="TRUE">en</langdata>
</descript>
<timeperd>
<timeinfo>
<rngdates>
<begdate>193907</begdate>
<enddate>193908</enddate>
</rngdates>
</timeinfo>
<current>ground condition</current>
</timeperd>
<status>
<progress>Complete</progress>
<update>None planned</update>
</status>
<spdom>
<bounding>
<westbc Sync="TRUE">-88.200259</westbc>
<eastbc Sync="TRUE">-87.747072</eastbc>
<northbc Sync="TRUE">42.495837</northbc>
<southbc Sync="TRUE">42.152288</southbc>
</bounding>
<lboundng>
<leftbc Sync="TRUE">1020280.000000</leftbc>
<rightbc Sync="TRUE">1142640.000000</rightbc>
<topbc Sync="TRUE">2123630.000000</topbc>
<bottombc Sync="TRUE">1998410.000000</bottombc>
</lboundng>
</spdom>
<keywords>
<theme>
<themekt>none</themekt>
<themekey>digital orthophoto</themekey>
<themekey>digital image map</themekey>
<themekey>aerial photograph</themekey>
<themekey>rectified photograph</themekey>
<themekey>rectified image</themekey>
<themekey>orthophoto</themekey>
<themekey>historical</themekey>
</theme>
<place>
<placekt>none</placekt>
<placekey>United States of America</placekey>
<placekey>State of Illinois</placekey>
<placekey>County of Lake</placekey>
</place>
<place>
<placekt>U.S. Department of Commerce, 1987, Codes for the identification of the States, the District of Columbia and the outlying areas of The United States, and associated areas (Federal Information Processing Standard 5-2): Washington, D. C., National Institute of Standards and Technology.</placekt>
<placekey>17</placekey>
</place>
<place>
<placekt>U.S. Department of Commerce,1990, Counties and equivalent entities of The United States, its possessions, and associated areas (Federal Information Processing Standard 6-4): Washington, D.C. National Institute of Standards and Technology.</placekt>
<placekey>097</placekey>
</place>
</keywords>
<accconst>None</accconst>
<useconst>This Lake County data is provided subject to the following terms and conditions. Please read these terms carefully as use of this data constitutes acceptance of all of the following terms and conditions:
Disclaimer of Liability
Neither Lake County, nor any of its employees or elected officials shall be responsible or held liable for any improper or incorrect use of this information. In no event shall Lake County or elected officials or its employees be liable for any direct, indirect, incidental, special, exemplary, or consequential damages (including, but not limited to, procurement or substitute goods or services; loss of use, data, or profits; or business interruption) however caused and on any theory of liability, whether in contract, strict liability, or tort (including negligence or otherwise) arising in any way out of the use of this data, even if advised of the possibility of such damage. This disclaimer of liability applies to any damages or injury, including but not limited to those caused by any failure of performance, error, omission, interruption, deletion, defect, delay in operation or transmission, computer virus, theft or destruction or unauthorized access to, alteration of, or use of record, whether for breach of contract, tortuous behavior, negligence or under any other cause of action. Disclaimer of Warranties and Accuracy of Data
Although the data found on this compact disc has been produced and processed from sources believed to be reliable, no warranty, expressed or implied, is made regarding accuracy, adequacy, completeness, legality, reliability or usefulness of any information. This disclaimer applies to both isolated and aggregate uses of the information. The County and elected officials provide this information on an "as is" basis. All warranties of any kind, express or implied, including but not limited to the implied warranties of merchantability, fitness for a particular purpose, freedom from contamination by computer viruses or hackers and non-infringement of proprietary rights are disclaimed. Changes may be periodically made to the information herein; these changes may or may not be incorporated in any new version of the publication. If you have obtained information from a source other than the County, be aware that electronic data can be altered subsequent to original distribution. Data can also quickly become out of date. It is recommended that careful attention be paid to the contents of any data, and that the originator of the data or information be contacted with any questions regarding appropriate use. If you find any errors or omissions, we encourage you to report them to the GIS and Mapping Division of the Lake County Department of Information and Technology using the Contact information provided above. Disclaimer of Endorsement
Reference herein to any specific commercial products, process, or service by trade name, trademark, manufacturer, or otherwise, does not constitute or imply its endorsement, recommendation, or favoring by the County. Disclaimer of Duty to Continue Provision of Data The user expressly agrees that use of the data is at the user's sole risk. The County does not warrant that the provision of this data will be uninterrupted or error free. The documents and related graphics published could contain technical inaccuracies or typographical errors. Changes are periodically added to the information herein. The County and/or its programs may make improvements and/or changes in the information and/or programs described herein at any time.
Choice of Law
Construction of the disclaimers above and resolution of disputes thereof are governed by the laws of the State of Illinois. The laws of the State of Illinois, U.S.A., shall apply to all uses of this data and this system. By use of this system and any data contained therein, the user agrees that use shall conform to all applicable laws and regulations and user shall not violate the rights of any third parties.</useconst>
<ptcontac>
<cntinfo>
<cntorgp>
<cntorg>Lake County GIS/Mapping Division</cntorg>
</cntorgp>
<cntaddr>
<addrtype>mailing and physical address</addrtype>
<address>18 North County Street</address>
<city>Waukegan</city>
<state>IL</state>
<postal>60085-4357</postal>
<country>USA</country>
</cntaddr>
<cntvoice>847-377-2373</cntvoice>
<cntfax>847-984-5749</cntfax>
<cntemail>maps@lakecountyil.gov</cntemail>
<hours>8:30 AM - 5:00 PM: Central Time Zone</hours>
<cntinst>Business is conducted Monday-Friday, except holidays.</cntinst>
</cntinfo>
</ptcontac>
<native Sync="FALSE">ESRI ArcCatalog 9.1.0.722</native>
<natvform Sync="TRUE">Raster Dataset</natvform>
</idinfo>
<dataqual>
<attracc>
<attraccr>Areas of this product may have had a certain amount of radiometric change induced in order to minimize contrast differences between adjacent photos. Scratches or other cosmetic blemishes have been corrected by digital manipulation in various locations of the study area. This mosaic has also been compressed using Lizardtech's MrSID compression technology and may exhibit artifacts from the process. Due to the lack of sufficient camera calibration information, errors will increase towards the margin of each underlying photo, although this effect has been minimized by cropping individual photos to make this mosaic. Since these photos were scanned from paper prints, local distortions (from the media stretching and/or shrinking) may be present as well as pen marks and fading.</attraccr>
</attracc>
<complete>All imagery has been inspected to insure completeness.</complete>
<cloud>0</cloud>
</dataqual>
<spdoinfo>
<direct Sync="TRUE">Raster</direct>
<rastinfo>
<rasttype Sync="TRUE">Pixel</rasttype>
<rastdtyp Sync="TRUE">pixel codes</rastdtyp>
<rowcount Sync="TRUE">85217</rowcount>
<colcount Sync="TRUE">82982</colcount>
<vrtcount Sync="TRUE">1</vrtcount>
<rastorig Sync="TRUE">Upper Left</rastorig>
<rastband Sync="TRUE">1</rastband>
<rastxsz Sync="TRUE">0.609601</rastxsz>
<rastxu>feet</rastxu>
<rastysz Sync="TRUE">0.609601</rastysz>
<rastyu>feet</rastyu>
<rastbpp Sync="TRUE">8</rastbpp>
<rastplyr Sync="TRUE">TRUE</rastplyr>
<rastifor Sync="TRUE">FGDBR</rastifor>
<rastcmap Sync="TRUE">FALSE</rastcmap>
<rastcomp Sync="TRUE">LZ77</rastcomp>
</rastinfo>
</spdoinfo>
<spref>
<horizsys>
<cordsysn>
<geogcsn>GCS_North_American_1983_HARN</geogcsn>
<projcsn>NAD_1983_HARN_StatePlane_Illinois_East_FIPS_1201_Feet</projcsn>
</cordsysn>
<planar>
<planci>
<plance Sync="TRUE">row and column</plance>
<coordrep>
<absres Sync="TRUE">0.609601</absres>
<ordres Sync="TRUE">0.609601</ordres>
</coordrep>
<plandu Sync="TRUE">survey feet</plandu>
</planci>
</planar>
<geodetic>
<horizdn>D_North_American_1983_HARN</horizdn>
<ellips>Geodetic Reference System 80</ellips>
<semiaxis>6378137.000000</semiaxis>
<denflat>298.257222</denflat>
</geodetic>
</horizsys>
</spref>
<eainfo>
<overview>
<eaover>Each pixel contains an 8-bit gray-scale value between 0-255. A value of 0 represents the color black while a value of 255 represents the color white. All values between 0 and 255 are represented as a shade of gray varying from black to white. Areas where the rectification process is incomplete due to incomplete data (i.e., lack of elevation data, gaps), are represented with the numeric value of 255.</eaover>
</overview>
</eainfo>
<distinfo>
<distrib>
<cntinfo>
<cntorgp>
<cntorg>Lake County GIS/Mapping Division</cntorg>
</cntorgp>
<cntaddr>
<addrtype>mailing and physical address</addrtype>
<address>18 North County Street</address>
<city>Waukegan</city>
<state>IL</state>
<postal>60085-4357</postal>
<country>USA</country>
</cntaddr>
<cntvoice>847-377-2373</cntvoice>
<cntfax>847-984-5749</cntfax>
<cntemail>maps@lakecountyil.gov</cntemail>
<hours>8:30 AM - 5:00 PM: Central Time Zone</hours>
<cntinst>Business is conducted Monday-Friday, except holidays.</cntinst>
</cntinfo>
</distrib>
<stdorder>
<digform>
<digtinfo>
<formname>MrSID</formname>
<transize Sync="TRUE">658.630</transize>
<dssize Sync="TRUE">658.630</dssize>
<formvern>1.5</formvern>
</digtinfo>
<digtopt>
<offoptn>
<offmedia>CD-ROM</offmedia>
<recfmt>ISO 9660</recfmt>
</offoptn>
</digtopt>
</digform>
<fees>Cost of reproduction.</fees>
<ordering>Contact Us.</ordering>
</stdorder>
<resdesc>Aerial photography and other GIS products are available at the cost of reproduction on request. Please visit our website for a complete list of public products and ordering instructions.</resdesc>
</distinfo>
<metainfo>
<metd>20060104</metd>
<langmeta Sync="TRUE">en</langmeta>
<metc>
<cntinfo>
<cntorgp>
<cntorg>Lake County GIS/Mapping Division</cntorg>
</cntorgp>
<cntaddr>
<addrtype>mailing and physical address</addrtype>
<address>18 North County Street</address>
<city>Waukegan</city>
<state>IL</state>
<postal>60085-4357</postal>
<country>USA</country>
</cntaddr>
<cntvoice>847-377-2373</cntvoice>
<cntfax>847-984-5749</cntfax>
<cntemail>maps@lakecountyil.gov</cntemail>
<hours>8:30 AM - 5:00 PM: Central Time Zone</hours>
<cntinst>Business is conducted Monday-Friday, except holidays.</cntinst>
</cntinfo>
</metc>
<metstdn Sync="TRUE">FGDC Content Standards for Digital Geospatial Metadata</metstdn>
<metstdv Sync="TRUE">FGDC-STD-001-1998</metstdv>
<mettc Sync="TRUE">local time</mettc>
</metainfo>
<dataIdInfo>
<envirDesc Sync="FALSE">Esri ArcGIS 10.3.0.4322</envirDesc>
<dataLang>
<languageCode Sync="TRUE" value="eng">
</languageCode>
<countryCode Sync="TRUE" value="USA">
</countryCode>
</dataLang>
<idCitation>
<resTitle Sync="TRUE">Lake_IL_1939_webM</resTitle>
<presForm>
<PresFormCd Sync="TRUE" value="011">
</PresFormCd>
</presForm>
</idCitation>
<spatRpType>
<SpatRepTypCd Sync="TRUE" value="002">
</SpatRepTypCd>
</spatRpType>
<dataExt>
<geoEle>
<GeoBndBox esriExtentType="search">
<exTypeCode Sync="TRUE">1</exTypeCode>
<westBL Sync="TRUE">-88.200465</westBL>
<eastBL Sync="TRUE">-87.746044</eastBL>
<northBL Sync="TRUE">42.496720</northBL>
<southBL Sync="TRUE">42.151698</southBL>
</GeoBndBox>
</geoEle>
</dataExt>
<idAbs>This is a single, seamless countywide image.
The aerial photos used to create the mosaic on this CD were taken on various dates in July and August 1939. They were scanned in 2001, and georeferenced in 2002. This data should NOT be used at a scale larger than 1 inch = 400 feet. Due to the lack of sufficient camera calibration information, errors will increase towards the margin of each underlying photo, although this effect has been minimized by cropping individual photos to make this mosaic. Since these photos were scanned from paper prints, local distortions (from the media stretching and/or shrinking) may be present as well as pen marks and fading.
In order for this information to fit on to the CD media it has been compressed with Lizardtech's MrSID software at a 1:5 target ratio.
The image is georeferenced to the Illinois State Plane, Eastern Zone, using the NAD83 horizontal datum.
Caution should be used in interpreting features in this photography with reference to current conditions. In particular, many roads and road intersections have been realigned in the more than 60 years since this photography was taken.
This historic aerial photography was captured in digital form as the result of a cooperative project between the Illinois State Geological Survey and the Geographic Information Systems (GIS) and Mapping Division of the Lake County Department of Information and Technology. It is part of a statewide program to preserve the oldest known extensive aerial photography for future generations.
The original photography was performed by the U.S. Department of Agriculture as part of a nation-wide program for use in agricultural assessment.
Since the original negatives became unstable and were destroyed by the National Archives in the 1980's, only paper prints remain. A set of paper prints representing the best available quality was assembled from the collections of several agencies. The scanning, georeferencing and mosaic processes are described in more detail on our website.</idAbs>
<searchKeys>
<keyword>United States of America</keyword>
<keyword>State of Illinois</keyword>
<keyword>County of Lake</keyword>
<keyword>17</keyword>
<keyword>097</keyword>
<keyword>digital orthophoto</keyword>
<keyword>digital image map</keyword>
<keyword>aerial photograph</keyword>
<keyword>rectified photograph</keyword>
<keyword>rectified image</keyword>
<keyword>orthophoto</keyword>
<keyword>historical</keyword>
</searchKeys>
<idPurp>This dataset was created for historical analysis at scales of 1 inch = 400 feet or smaller.</idPurp>
<idCredit>Illinois State Geological Survey and the Geographic Information Systems (GIS) and Mapping Division of the Lake County Department of Information and Technology</idCredit>
<resConst>
<Consts>
<useLimit/>
</Consts>
</resConst>
</dataIdInfo>
<mdLang>
<languageCode Sync="TRUE" value="eng">
</languageCode>
<countryCode Sync="TRUE" value="USA">
</countryCode>
</mdLang>
<Esri>
<DataProperties>
<itemProps>
<itemName Sync="TRUE">Lake_IL_1939_webM</itemName>
<imsContentType Sync="TRUE">002</imsContentType>
<nativeExtBox>
<westBL Sync="TRUE">-9818430.902435</westBL>
<eastBL Sync="TRUE">-9767844.974064</eastBL>
<southBL Sync="TRUE">5183730.170858</southBL>
<northBL Sync="TRUE">5235678.557954</northBL>
<exTypeCode Sync="TRUE">1</exTypeCode>
</nativeExtBox>
</itemProps>
<coordRef>
<type Sync="TRUE">Projected</type>
<geogcsn Sync="TRUE">GCS_WGS_1984</geogcsn>
<csUnits Sync="TRUE">Linear Unit: Meter (1.000000)</csUnits>
<projcsn Sync="TRUE">WGS_1984_Web_Mercator_Auxiliary_Sphere</projcsn>
<peXml Sync="TRUE">&lt;ProjectedCoordinateSystem xsi:type='typens:ProjectedCoordinateSystem' xmlns:xsi='http://www.w3.org/2001/XMLSchema-instance' xmlns:xs='http://www.w3.org/2001/XMLSchema' xmlns:typens='http://www.esri.com/schemas/ArcGIS/10.3'&gt;&lt;WKT&gt;PROJCS[&amp;quot;WGS_1984_Web_Mercator_Auxiliary_Sphere&amp;quot;,GEOGCS[&amp;quot;GCS_WGS_1984&amp;quot;,DATUM[&amp;quot;D_WGS_1984&amp;quot;,SPHEROID[&amp;quot;WGS_1984&amp;quot;,6378137.0,298.257223563]],PRIMEM[&amp;quot;Greenwich&amp;quot;,0.0],UNIT[&amp;quot;Degree&amp;quot;,0.0174532925199433]],PROJECTION[&amp;quot;Mercator_Auxiliary_Sphere&amp;quot;],PARAMETER[&amp;quot;False_Easting&amp;quot;,0.0],PARAMETER[&amp;quot;False_Northing&amp;quot;,0.0],PARAMETER[&amp;quot;Central_Meridian&amp;quot;,0.0],PARAMETER[&amp;quot;Standard_Parallel_1&amp;quot;,0.0],PARAMETER[&amp;quot;Auxiliary_Sphere_Type&amp;quot;,0.0],UNIT[&amp;quot;Meter&amp;quot;,1.0],AUTHORITY[&amp;quot;EPSG&amp;quot;,3857]]&lt;/WKT&gt;&lt;XOrigin&gt;-20037700&lt;/XOrigin&gt;&lt;YOrigin&gt;-30241100&lt;/YOrigin&gt;&lt;XYScale&gt;148923141.92838538&lt;/XYScale&gt;&lt;ZOrigin&gt;-100000&lt;/ZOrigin&gt;&lt;ZScale&gt;10000&lt;/ZScale&gt;&lt;MOrigin&gt;-100000&lt;/MOrigin&gt;&lt;MScale&gt;10000&lt;/MScale&gt;&lt;XYTolerance&gt;0.001&lt;/XYTolerance&gt;&lt;ZTolerance&gt;0.001&lt;/ZTolerance&gt;&lt;MTolerance&gt;0.001&lt;/MTolerance&gt;&lt;HighPrecision&gt;true&lt;/HighPrecision&gt;&lt;WKID&gt;102100&lt;/WKID&gt;&lt;LatestWKID&gt;3857&lt;/LatestWKID&gt;&lt;/ProjectedCoordinateSystem&gt;</peXml>
</coordRef>
</DataProperties>
<SyncDate>20150310</SyncDate>
<SyncTime>16550900</SyncTime>
<ModDate>20150310</ModDate>
<ModTime>16550900</ModTime>
</Esri>
<distInfo>
<distFormat>
<formatName Sync="TRUE">File Geodatabase Raster Dataset</formatName>
</distFormat>
</distInfo>
<mdHrLv>
<ScopeCd Sync="TRUE" value="005">
</ScopeCd>
</mdHrLv>
<mdHrLvName Sync="TRUE">dataset</mdHrLvName>
<refSysInfo>
<RefSystem>
<refSysID>
<identCode Sync="TRUE" code="3857">
</identCode>
<idCodeSpace Sync="TRUE">EPSG</idCodeSpace>
<idVersion Sync="TRUE">8.2.6</idVersion>
</refSysID>
</RefSystem>
</refSysInfo>
<mdDateSt Sync="TRUE">20150310</mdDateSt>
</metadata>
